BEGIN:VCALENDAR
VERSION:2.0
PRODID:-//Neighborhood Healthcare - ECPv6.14.2//NONSGML v1.0//EN
CALSCALE:GREGORIAN
METHOD:PUBLISH
X-WR-CALNAME:Neighborhood Healthcare
X-ORIGINAL-URL:https://www.nhcare.org
X-WR-CALDESC:Events for Neighborhood Healthcare
REFRESH-INTERVAL;VALUE=DURATION:PT1H
X-Robots-Tag:noindex
X-PUBLISHED-TTL:PT1H
BEGIN:VTIMEZONE
TZID:America/Los_Angeles
BEGIN:DAYLIGHT
TZOFFSETFROM:-0800
TZOFFSETTO:-0700
TZNAME:PDT
DTSTART:20240310T100000
END:DAYLIGHT
BEGIN:STANDARD
TZOFFSETFROM:-0700
TZOFFSETTO:-0800
TZNAME:PST
DTSTART:20241103T090000
END:STANDARD
BEGIN:DAYLIGHT
TZOFFSETFROM:-0800
TZOFFSETTO:-0700
TZNAME:PDT
DTSTART:20250309T100000
END:DAYLIGHT
BEGIN:STANDARD
TZOFFSETFROM:-0700
TZOFFSETTO:-0800
TZNAME:PST
DTSTART:20251102T090000
END:STANDARD
END:VTIMEZONE
BEGIN:VEVENT
DTSTART;TZID=America/Los_Angeles:20250610T113000
DTEND;TZID=America/Los_Angeles:20250610T121500
DTSTAMP:20260421T085045
CREATED:20250428T205137Z
LAST-MODIFIED:20250428T205400Z
UID:14404-1749555000-1749557700@www.nhcare.org
SUMMARY:Lakeside Health Center Tour - June 2025 (By Appointment Only)
DESCRIPTION:RSVP TODAY
URL:https://www.nhcare.org/event/lakeside-health-center-tour-june-2025-by-appointment-only/
LOCATION:Neighborhood Healthcare\, Lakeside\, 10039 Vine St\, Lakeside\, CA\, United States
END:VEVENT
BEGIN:VEVENT
DTSTART;TZID=America/Los_Angeles:20250605T113000
DTEND;TZID=America/Los_Angeles:20250605T130000
DTSTAMP:20260421T085045
CREATED:20250506T181733Z
LAST-MODIFIED:20250506T181733Z
UID:14431-1749123000-1749128400@www.nhcare.org
SUMMARY:Lakeside Groundbreaking - June 5\, 2025
DESCRIPTION:RSVP HERE
URL:https://www.nhcare.org/event/lakeside-groundbreaking-june-5-2025/
LOCATION:Neighborhood Healthcare\, Lakeside\, 10039 Vine St\, Lakeside\, CA\, United States
END:VEVENT
BEGIN:VEVENT
DTSTART;TZID=America/Los_Angeles:20250521T121500
DTEND;TZID=America/Los_Angeles:20250521T130000
DTSTAMP:20260421T085045
CREATED:20250416T162733Z
LAST-MODIFIED:20250416T190359Z
UID:14336-1747829700-1747832400@www.nhcare.org
SUMMARY:Menifee Health Center Tour - May 2025 (By Appointment Only)
DESCRIPTION:RSVP TODAY
URL:https://www.nhcare.org/event/menifee-health-center-tour-may-2025-by-appointment-only/
LOCATION:Neighborhood\, Menifee\, 26926 Cherry Hills Blvd\, Menifee\, 92586\, United States
END:VEVENT
BEGIN:VEVENT
DTSTART;TZID=America/Los_Angeles:20250520T113000
DTEND;TZID=America/Los_Angeles:20250520T121500
DTSTAMP:20260421T085045
CREATED:20250416T162050Z
LAST-MODIFIED:20250416T162050Z
UID:14334-1747740600-1747743300@www.nhcare.org
SUMMARY:PACE Murrieta Tour - May 2025 (By Appointment Only)
DESCRIPTION:RSVP TODAY
URL:https://www.nhcare.org/event/pace-murrieta-tour-may-2025-by-appointment-only/
LOCATION:Neighborhood\, Murrieta\, 30135 Technology Dr\, Murrieta\, CA\, United States
END:VEVENT
BEGIN:VEVENT
DTSTART;TZID=America/Los_Angeles:20250514T113000
DTEND;TZID=America/Los_Angeles:20250514T121500
DTSTAMP:20260421T085045
CREATED:20250416T155954Z
LAST-MODIFIED:20250416T155954Z
UID:14333-1747222200-1747224900@www.nhcare.org
SUMMARY:Escondido Dental Center Tour - May 2025 (By Appointment Only)
DESCRIPTION:RSVP TODAY
URL:https://www.nhcare.org/event/escondido-dental-center-tour-may-2025-by-appointment-only/
LOCATION:Neighborhood\, Escondido Dental Center\, 910 E Ohio Ave\, Escondido\, CA\, 92025\, United States
END:VEVENT
BEGIN:VEVENT
DTSTART;TZID=America/Los_Angeles:20250513T113000
DTEND;TZID=America/Los_Angeles:20250513T121500
DTSTAMP:20260421T085045
CREATED:20250416T154131Z
LAST-MODIFIED:20250416T155635Z
UID:14329-1747135800-1747138500@www.nhcare.org
SUMMARY:Lakeside Health Center Tour - May 2025 (By Appointment Only)
DESCRIPTION:RSVP TODAY \n  \n 
URL:https://www.nhcare.org/event/lakeside-health-center-tour-by-appointment-only-8/
LOCATION:Neighborhood Healthcare\, Lakeside\, 10039 Vine St\, Lakeside\, CA\, United States
END:VEVENT
BEGIN:VEVENT
DTSTART;TZID=America/Los_Angeles:20250416T121500
DTEND;TZID=America/Los_Angeles:20250416T130000
DTSTAMP:20260421T085045
CREATED:20250224T222238Z
LAST-MODIFIED:20250317T212127Z
UID:14098-1744805700-1744808400@www.nhcare.org
SUMMARY:Menifee Health Center Tour (By Appointment Only)
DESCRIPTION:RSVP TODAY
URL:https://www.nhcare.org/event/menifee-health-center-tour-by-appointment-only-6/
LOCATION:Neighborhood\, Menifee\, 26926 Cherry Hills Blvd\, Menifee\, 92586\, United States
END:VEVENT
BEGIN:VEVENT
DTSTART;TZID=America/Los_Angeles:20250415T113000
DTEND;TZID=America/Los_Angeles:20250415T121500
DTSTAMP:20260421T085045
CREATED:20250224T221915Z
LAST-MODIFIED:20250317T212202Z
UID:14097-1744716600-1744719300@www.nhcare.org
SUMMARY:PACE Murrieta Tour (By Appointment Only)
DESCRIPTION:RSVP TODAY
URL:https://www.nhcare.org/event/pace-murrieta-tour-by-appointment-only-4/
LOCATION:Neighborhood\, Murrieta\, 30135 Technology Dr\, Murrieta\, CA\, United States
END:VEVENT
BEGIN:VEVENT
DTSTART;TZID=America/Los_Angeles:20250409T113000
DTEND;TZID=America/Los_Angeles:20250409T121500
DTSTAMP:20260421T085045
CREATED:20250224T221741Z
LAST-MODIFIED:20250317T212215Z
UID:14096-1744198200-1744200900@www.nhcare.org
SUMMARY:Escondido Dental Center Tour (By Appointment Only)
DESCRIPTION:RSVP TODAY
URL:https://www.nhcare.org/event/escondido-dental-center-tour-by-appointment-only-5/
LOCATION:Neighborhood\, Escondido Dental Center\, 910 E Ohio Ave\, Escondido\, CA\, 92025\, United States
END:VEVENT
BEGIN:VEVENT
DTSTART;TZID=America/Los_Angeles:20250408T113000
DTEND;TZID=America/Los_Angeles:20250408T121500
DTSTAMP:20260421T085045
CREATED:20250224T221629Z
LAST-MODIFIED:20250317T212451Z
UID:14095-1744111800-1744114500@www.nhcare.org
SUMMARY:Lakeside Health Center Tour (By Appointment Only)
DESCRIPTION:RSVP TODAY
URL:https://www.nhcare.org/event/lakeside-health-center-tour-by-appointment-only-7/
LOCATION:Neighborhood Healthcare\, Lakeside\, 10039 Vine St\, Lakeside\, CA\, United States
END:VEVENT
BEGIN:VEVENT
DTSTART;TZID=America/Los_Angeles:20250319T121500
DTEND;TZID=America/Los_Angeles:20250319T130000
DTSTAMP:20260421T085045
CREATED:20250129T230311Z
LAST-MODIFIED:20250129T230311Z
UID:14017-1742386500-1742389200@www.nhcare.org
SUMMARY:Menifee Health Center Tour (By Appointment Only)
DESCRIPTION:RSVP HERE
URL:https://www.nhcare.org/event/menifee-health-center-tour-by-appointment-only-5/
LOCATION:Neighborhood\, Menifee\, 26926 Cherry Hills Blvd\, Menifee\, 92586\, United States
END:VEVENT
BEGIN:VEVENT
DTSTART;TZID=America/Los_Angeles:20250318T113000
DTEND;TZID=America/Los_Angeles:20250318T121500
DTSTAMP:20260421T085045
CREATED:20250129T225802Z
LAST-MODIFIED:20250212T000315Z
UID:14015-1742297400-1742300100@www.nhcare.org
SUMMARY:PACE Murrieta Tour (By Appointment Only)
DESCRIPTION:RSVP HERE
URL:https://www.nhcare.org/event/pace-murrieta-tour-by-appointment-only-3/
LOCATION:Neighborhood\, Murrieta\, 30135 Technology Dr\, Murrieta\, CA\, United States
END:VEVENT
BEGIN:VEVENT
DTSTART;TZID=America/Los_Angeles:20250312T113000
DTEND;TZID=America/Los_Angeles:20250312T121500
DTSTAMP:20260421T085045
CREATED:20250129T225508Z
LAST-MODIFIED:20250129T225508Z
UID:14014-1741779000-1741781700@www.nhcare.org
SUMMARY:Escondido Dental Center Tour (By Appointment Only)
DESCRIPTION:RSVP HERE
URL:https://www.nhcare.org/event/escondido-dental-center-tour-by-appointment-only-4/
LOCATION:Neighborhood\, Escondido Dental Center\, 910 E Ohio Ave\, Escondido\, CA\, 92025\, United States
END:VEVENT
BEGIN:VEVENT
DTSTART;TZID=America/Los_Angeles:20250311T113000
DTEND;TZID=America/Los_Angeles:20250311T121500
DTSTAMP:20260421T085045
CREATED:20250129T225111Z
LAST-MODIFIED:20250129T225111Z
UID:14012-1741692600-1741695300@www.nhcare.org
SUMMARY:Lakeside Health Center Tour (By Appointment Only)
DESCRIPTION:RSVP HERE
URL:https://www.nhcare.org/event/lakeside-health-center-tour-by-appointment-only-6/
LOCATION:Neighborhood Healthcare\, Lakeside\, 10039 Vine St\, Lakeside\, CA\, United States
END:VEVENT
BEGIN:VEVENT
DTSTART;TZID=America/Los_Angeles:20250219T121500
DTEND;TZID=America/Los_Angeles:20250219T130000
DTSTAMP:20260421T085045
CREATED:20250116T202958Z
LAST-MODIFIED:20250116T202958Z
UID:13995-1739967300-1739970000@www.nhcare.org
SUMMARY:Menifee Health Center Tour (By Appointment Only)
DESCRIPTION:RSVP HERE
URL:https://www.nhcare.org/event/menifee-health-center-tour-by-appointment-only-4/
LOCATION:Neighborhood\, Menifee\, 26926 Cherry Hills Blvd\, Menifee\, 92586\, United States
END:VEVENT
BEGIN:VEVENT
DTSTART;TZID=America/Los_Angeles:20250218T113000
DTEND;TZID=America/Los_Angeles:20250218T121500
DTSTAMP:20260421T085045
CREATED:20250116T201034Z
LAST-MODIFIED:20250116T201034Z
UID:13993-1739878200-1739880900@www.nhcare.org
SUMMARY:PACE Murrieta Tour (By Appointment Only)
DESCRIPTION:RSVP HERE
URL:https://www.nhcare.org/event/pace-murrieta-tour-by-appointment-only-2/
LOCATION:Neighborhood\, Murrieta\, 30135 Technology Dr\, Murrieta\, CA\, United States
END:VEVENT
BEGIN:VEVENT
DTSTART;TZID=America/Los_Angeles:20250212T113000
DTEND;TZID=America/Los_Angeles:20250212T121500
DTSTAMP:20260421T085045
CREATED:20250116T200713Z
LAST-MODIFIED:20250116T200713Z
UID:13991-1739359800-1739362500@www.nhcare.org
SUMMARY:Escondido Dental Center Tour (By Appointment Only)
DESCRIPTION:RSVP HERE
URL:https://www.nhcare.org/event/escondido-dental-center-tour-by-appointment-only-3/
LOCATION:Neighborhood\, Escondido Dental Center\, 910 E Ohio Ave\, Escondido\, CA\, 92025\, United States
END:VEVENT
BEGIN:VEVENT
DTSTART;TZID=America/Los_Angeles:20250211T113000
DTEND;TZID=America/Los_Angeles:20250211T121500
DTSTAMP:20260421T085045
CREATED:20250116T200127Z
LAST-MODIFIED:20250116T200143Z
UID:13989-1739273400-1739276100@www.nhcare.org
SUMMARY:Lakeside Health Center Tour (By Appointment Only)
DESCRIPTION:RSVP HERE
URL:https://www.nhcare.org/event/lakeside-health-center-tour-by-appointment-only-5/
LOCATION:Neighborhood Healthcare\, Lakeside\, 10039 Vine St\, Lakeside\, CA\, United States
END:VEVENT
BEGIN:VEVENT
DTSTART;TZID=America/Los_Angeles:20250123T113000
DTEND;TZID=America/Los_Angeles:20250123T121500
DTSTAMP:20260421T085045
CREATED:20250106T214402Z
LAST-MODIFIED:20250113T233629Z
UID:13962-1737631800-1737634500@www.nhcare.org
SUMMARY:Lakeside Health Center Tour (By Appointment Only)
DESCRIPTION:RSVP TODAY
URL:https://www.nhcare.org/event/lakeside-health-center-tour-by-appointment-only-4/
LOCATION:Neighborhood Healthcare\, Lakeside\, 10039 Vine St\, Lakeside\, CA\, United States
END:VEVENT
BEGIN:VEVENT
DTSTART;TZID=America/Los_Angeles:20250121T113000
DTEND;TZID=America/Los_Angeles:20250121T121500
DTSTAMP:20260421T085045
CREATED:20241211T183532Z
LAST-MODIFIED:20241211T183532Z
UID:13935-1737459000-1737461700@www.nhcare.org
SUMMARY:PACE Murrieta Tour (By Appointment Only)
DESCRIPTION:RSVP TODAY
URL:https://www.nhcare.org/event/pace-murrieta-tour-by-appointment-only/
LOCATION:Neighborhood\, Murrieta\, 30135 Technology Dr\, Murrieta\, CA\, United States
END:VEVENT
BEGIN:VEVENT
DTSTART;TZID=America/Los_Angeles:20250115T121500
DTEND;TZID=America/Los_Angeles:20250115T130000
DTSTAMP:20260421T085045
CREATED:20241211T183338Z
LAST-MODIFIED:20241211T183338Z
UID:13934-1736943300-1736946000@www.nhcare.org
SUMMARY:Menifee Health Center Tour (By Appointment Only)
DESCRIPTION:RSVP TODAY
URL:https://www.nhcare.org/event/menifee-health-center-tour-by-appointment-only-3/
LOCATION:Neighborhood\, Menifee\, 26926 Cherry Hills Blvd\, Menifee\, 92586\, United States
END:VEVENT
BEGIN:VEVENT
DTSTART;TZID=America/Los_Angeles:20250114T113000
DTEND;TZID=America/Los_Angeles:20250114T121500
DTSTAMP:20260421T085045
CREATED:20241211T183157Z
LAST-MODIFIED:20241211T183157Z
UID:13933-1736854200-1736856900@www.nhcare.org
SUMMARY:Lakeside Health Center Tour (By Appointment Only)
DESCRIPTION:RSVP TODAY
URL:https://www.nhcare.org/event/lakeside-health-center-tour-by-appointment-only-3/
LOCATION:Neighborhood Healthcare\, Lakeside\, 10039 Vine St\, Lakeside\, CA\, United States
END:VEVENT
BEGIN:VEVENT
DTSTART;TZID=America/Los_Angeles:20250108T113000
DTEND;TZID=America/Los_Angeles:20250108T121500
DTSTAMP:20260421T085045
CREATED:20241211T182833Z
LAST-MODIFIED:20241211T182845Z
UID:13932-1736335800-1736338500@www.nhcare.org
SUMMARY:Escondido Dental Center Tour (By Appointment Only)
DESCRIPTION:RSVP TODAY
URL:https://www.nhcare.org/event/escondido-dental-center-tour-by-appointment-only/
LOCATION:Neighborhood\, Escondido Dental Center\, 910 E Ohio Ave\, Escondido\, CA\, 92025\, United States
END:VEVENT
BEGIN:VEVENT
DTSTART;TZID=America/Los_Angeles:20241218T121500
DTEND;TZID=America/Los_Angeles:20241218T130000
DTSTAMP:20260421T085045
CREATED:20240918T221510Z
LAST-MODIFIED:20240918T221510Z
UID:13697-1734524100-1734526800@www.nhcare.org
SUMMARY:Menifee Health Center Tour (By Appointment Only)
DESCRIPTION:RSVP TODAY
URL:https://www.nhcare.org/event/menifee-health-center-tour-by-appointment-only-2/
LOCATION:Neighborhood\, Menifee\, 26926 Cherry Hills Blvd\, Menifee\, 92586\, United States
END:VEVENT
BEGIN:VEVENT
DTSTART;TZID=America/Los_Angeles:20241211T113000
DTEND;TZID=America/Los_Angeles:20241211T121500
DTSTAMP:20260421T085045
CREATED:20240918T221131Z
LAST-MODIFIED:20241127T225205Z
UID:13696-1733916600-1733919300@www.nhcare.org
SUMMARY:Escondido Dental Center Tour (By Appointment Only)
DESCRIPTION:RSVP TODAY
URL:https://www.nhcare.org/event/escondido-dental-center-tour-by-appointment-only-2/
LOCATION:Neighborhood\, Escondido Dental Center\, 910 E Ohio Ave\, Escondido\, CA\, 92025\, United States
END:VEVENT
BEGIN:VEVENT
DTSTART;TZID=America/Los_Angeles:20241210T113000
DTEND;TZID=America/Los_Angeles:20241210T121500
DTSTAMP:20260421T085045
CREATED:20240918T220255Z
LAST-MODIFIED:20240926T224544Z
UID:13694-1733830200-1733832900@www.nhcare.org
SUMMARY:Lakeside Health Center Tour (By Appointment Only)
DESCRIPTION:RSVP TODAY
URL:https://www.nhcare.org/event/lakeside-health-center-tour-by-appointment-only-2/
LOCATION:Neighborhood Healthcare\, Lakeside\, 10039 Vine St\, Lakeside\, CA\, United States
END:VEVENT
BEGIN:VEVENT
DTSTART;TZID=America/Los_Angeles:20241209T153000
DTEND;TZID=America/Los_Angeles:20241209T170000
DTSTAMP:20260421T085045
CREATED:20241120T194826Z
LAST-MODIFIED:20241120T194826Z
UID:13901-1733758200-1733763600@www.nhcare.org
SUMMARY:Temecula Parkway Ribbon Cutting
DESCRIPTION:
URL:https://www.nhcare.org/event/temecula-parkway-ribbon-cutting/
LOCATION:Neighborhood\, Temecula Parkway\, 31537 Rancho Pueblo Rd #102\, Temecula\, 92592\, United States
END:VEVENT
BEGIN:VEVENT
DTSTART;TZID=America/Los_Angeles:20241120T121500
DTEND;TZID=America/Los_Angeles:20241120T130000
DTSTAMP:20260421T085045
CREATED:20240918T214756Z
LAST-MODIFIED:20240924T192713Z
UID:13692-1732104900-1732107600@www.nhcare.org
SUMMARY:Menifee Health Center Tour (By Appointment Only)
DESCRIPTION:RSVP TODAY
URL:https://www.nhcare.org/event/menifee-health-center-tour-by-appointment-only/
LOCATION:Neighborhood\, Menifee\, 26926 Cherry Hills Blvd\, Menifee\, 92586\, United States
END:VEVENT
BEGIN:VEVENT
DTSTART;TZID=America/Los_Angeles:20241112T113000
DTEND;TZID=America/Los_Angeles:20241112T121500
DTSTAMP:20260421T085045
CREATED:20240918T215145Z
LAST-MODIFIED:20241029T164806Z
UID:13693-1731411000-1731413700@www.nhcare.org
SUMMARY:PACE Murrieta Tour (By Appointment Only)
DESCRIPTION:RSVP TODAY
URL:https://www.nhcare.org/event/murrieta-senior-services-tour-by-appointment-only/
LOCATION:Neighborhood\, Murrieta\, 30135 Technology Dr\, Murrieta\, CA\, United States
END:VEVENT
BEGIN:VEVENT
DTSTART;TZID=America/Los_Angeles:20241112T113000
DTEND;TZID=America/Los_Angeles:20241112T121500
DTSTAMP:20260421T085045
CREATED:20240918T214008Z
LAST-MODIFIED:20240918T214008Z
UID:13689-1731411000-1731413700@www.nhcare.org
SUMMARY:Lakeside Health Center Tour (By Appointment Only)
DESCRIPTION:RSVP TODAY
URL:https://www.nhcare.org/event/lakeside-health-center-tour-by-appointment-only/
LOCATION:Neighborhood Healthcare\, Lakeside\, 10039 Vine St\, Lakeside\, CA\, United States
END:VEVENT
END:VCALENDAR